BEGIN:VCALENDAR
VERSION:2.0
PRODID:-//Devpost\, Inc.//NextGenHacks//EN
CALSCALE:GREGORIAN
BEGIN:VTIMEZONE
TZID:America/Los_Angeles
BEGIN:DAYLIGHT
DTSTART:20260308T030000
TZOFFSETFROM:-0800
TZOFFSETTO:-0700
RRULE:FREQ=YEARLY;BYDAY=2SU;BYMONTH=3
TZNAME:PDT
END:DAYLIGHT
BEGIN:STANDARD
DTSTART:20261101T010000
TZOFFSETFROM:-0700
TZOFFSETTO:-0800
RRULE:FREQ=YEARLY;BYDAY=1SU;BYMONTH=11
TZNAME:PST
END:STANDARD
END:VTIMEZONE
BEGIN:VEVENT
DTSTAMP:20260424T015238Z
UID:e3c8ec1f-4fdc-452d-982a-6aa9fe55535a
DTSTART;TZID=America/Los_Angeles:20260601T234500
DTEND;TZID=America/Los_Angeles:20260601T234500
DESCRIPTION:https://nextgenhacks.devpost.com/
SUMMARY:NextGenHacks submission deadline
BEGIN:VALARM
ACTION:DISPLAY
TRIGGER:-P7D
SUMMARY:Just 7 left days until the submission deadline!
END:VALARM
END:VEVENT
END:VCALENDAR
